BEGIN:VCALENDAR
VERSION:2.0
PRODID:-//Finance Network Munich e.V. - ECPv6.3.4//NONSGML v1.0//EN
CALSCALE:GREGORIAN
METHOD:PUBLISH
X-ORIGINAL-URL:https://fn-munich.de
X-WR-CALDESC:Veranstaltungen für Finance Network Munich e.V.
REFRESH-INTERVAL;VALUE=DURATION:PT1H
X-Robots-Tag:noindex
X-PUBLISHED-TTL:PT1H
BEGIN:VTIMEZONE
TZID:Europe/Helsinki
BEGIN:DAYLIGHT
TZOFFSETFROM:+0200
TZOFFSETTO:+0300
TZNAME:EEST
DTSTART:20250330T010000
END:DAYLIGHT
BEGIN:STANDARD
TZOFFSETFROM:+0300
TZOFFSETTO:+0200
TZNAME:EET
DTSTART:20251026T010000
END:STANDARD
END:VTIMEZONE
BEGIN:VEVENT
DTSTART;TZID=Europe/Helsinki:20251016T100000
DTEND;TZID=Europe/Helsinki:20251016T193000
DTSTAMP:20260420T085444
CREATED:20250802T143444Z
LAST-MODIFIED:20250802T151018Z
UID:2601-1760608800-1760643000@fn-munich.de
SUMMARY:Forvis Mazars Karrierekick
DESCRIPTION:Du interessierst dich für die Service Lines Financial Advisory\, Tax\, Consulting oder Law? Dann bewirb dich für das Karrierekick-Event von Forvis Mazars! \nIn der Allianz Arena bearbeitet ihr gemeinsam in einem interdisziplinären Team eine fiktive Case Study zum Thema „Investment in einen internationalen Fußballclub“ vom Pre-Deal über den Post-Deal bis zum Exit.\nDanach könnt ihr die Allianz Arena bei einer Stadionführung besichtigen und erhaltet sogar Besuch von einem prominenten Überraschungsgast! \nWichtig:\nBewerbungsschluss ist am 08.09.2025. Pro Service Line werden zehn Teilnehmer*innen angenommen.\nDie Reisekosten werden von Forvis Mazars übernommen! \nMehr Informationen findet ihr auf der Webseite von Forvis Mazars. \n 
URL:https://fn-munich.de/event/forvis-mazars-karrierekick/
LOCATION:Forvis Mazars: Allianz Arena\, Franz-Beckenbauer-Platz 5\, München\, 80939
ATTACH;FMTTYPE=image/png:https://fn-munich.de/wp-content/uploads/2025/08/2025_Allianz_LinkedIn_1.png
END:VEVENT
BEGIN:VEVENT
DTSTART;TZID=Europe/Helsinki:20251029T190000
DTEND;TZID=Europe/Helsinki:20251029T210000
DTSTAMP:20260420T085444
CREATED:20251012T155922Z
LAST-MODIFIED:20251012T163519Z
UID:2647-1761764400-1761771600@fn-munich.de
SUMMARY:Welcome Event - Finance Network Munich e.V. - WiSe 25/26
DESCRIPTION:Wir laden euch als neue Mitglieder und FNM-Interessierte herzlich zu unserem Welcome-Event ein!\nIn lockerer Atmosphäre und mit gutem Essen möchten wir euch kennenlernen und euch den Verein\, unsere Angebote sowie Arbeitsweise vorstellen. \n\n	Notice: JavaScript is required for this content.
URL:https://fn-munich.de/event/welcome-event-fnm-wise-2526/
LOCATION:Cotidiano Promenadeplatz\, Maxburgstraße 4\, München\, 80333
ATTACH;FMTTYPE=application/pdf:https://fn-munich.de/wp-content/uploads/2025/10/Welcome-Event-WiSe-2025.pdf
END:VEVENT
END:VCALENDAR