BEGIN:VCALENDAR
VERSION:2.0
PRODID:-//Finance Network Munich e.V. - ECPv6.3.4//NONSGML v1.0//EN
CALSCALE:GREGORIAN
METHOD:PUBLISH
X-ORIGINAL-URL:https://fn-munich.de
X-WR-CALDESC:Veranstaltungen für Finance Network Munich e.V.
REFRESH-INTERVAL;VALUE=DURATION:PT1H
X-Robots-Tag:noindex
X-PUBLISHED-TTL:PT1H
BEGIN:VTIMEZONE
TZID:Europe/Helsinki
BEGIN:DAYLIGHT
TZOFFSETFROM:+0200
TZOFFSETTO:+0300
TZNAME:EEST
DTSTART:20240331T010000
END:DAYLIGHT
BEGIN:STANDARD
TZOFFSETFROM:+0300
TZOFFSETTO:+0200
TZNAME:EET
DTSTART:20241027T010000
END:STANDARD
END:VTIMEZONE
BEGIN:VEVENT
DTSTART;TZID=Europe/Helsinki:20240514T150000
DTEND;TZID=Europe/Helsinki:20240514T193000
DTSTAMP:20260423T234441
CREATED:20240318T211547Z
LAST-MODIFIED:20240422T181018Z
UID:2241-1715698800-1715715000@fn-munich.de
SUMMARY:FNM meets Die Bayerische - Ein Blick hinter die Kulissen
DESCRIPTION:  \nLiebe Kommilitonen! \nWir laden euch herzlich zu einem exklusiven Workshop-Event in Zusammenarbeit mit „Die Bayerische“ ein! Taucht mit uns ein in die Welt der Versicherungen und entdeckt neue Wege\, um eure Zukunft zu sichern. \nGemeinsam mit Experten von „Die Bayerische“ werden wir uns in interaktiven Sessions mit aktuellen Trends und Herausforderungen in der Versicherungsbranche auseinandersetzen. Lernt innovative Lösungsansätze kennen und erfahrt\, wie ihr eure individuellen Bedürfnisse optimal absichern könnt. \nFreut euch auf spannende Diskussionen und wertvolle Einblicke\, die euch dabei helfen werden\, fundierte Entscheidungen für eure Zukunft zu treffen. \nSeid dabei und gestaltet eure Zukunft aktiv mit – wir freuen uns auf einen inspirierenden Workshop mit euch! \nWann? Dienstag\, 14.05.2024 ab 15:00 Uhr\nWas? Vortrag über Versicherungen im Allgemeinen\, anschließender Fragerunde und Ausklang des Events\nWo? Office von Die Bayerische (Thomas-Dehler-Straße 25\, 81737 München) \n\n	Notice: JavaScript is required for this content.
URL:https://fn-munich.de/event/fnm-meets-die-bayrische-ein-blick-hinter-die-kulissen/
ATTACH;FMTTYPE=image/png:https://fn-munich.de/wp-content/uploads/2024/03/BAY_Logo-mit-Claim_BG_cmyk_hoch.png
END:VEVENT
END:VCALENDAR