BEGIN:VCALENDAR
VERSION:2.0
PRODID:-//Finance Network Munich e.V. - ECPv6.3.4//NONSGML v1.0//EN
CALSCALE:GREGORIAN
METHOD:PUBLISH
X-WR-CALNAME:Finance Network Munich e.V.
X-ORIGINAL-URL:https://fn-munich.de
X-WR-CALDESC:Veranstaltungen für Finance Network Munich e.V.
REFRESH-INTERVAL;VALUE=DURATION:PT1H
X-Robots-Tag:noindex
X-PUBLISHED-TTL:PT1H
BEGIN:VTIMEZONE
TZID:Europe/Paris
BEGIN:DAYLIGHT
TZOFFSETFROM:+0100
TZOFFSETTO:+0200
TZNAME:CEST
DTSTART:20220327T010000
END:DAYLIGHT
BEGIN:STANDARD
TZOFFSETFROM:+0200
TZOFFSETTO:+0100
TZNAME:CET
DTSTART:20221030T010000
END:STANDARD
END:VTIMEZONE
BEGIN:VEVENT
DTSTART;TZID=Europe/Paris:20221107T190000
DTEND;TZID=Europe/Paris:20221107T210000
DTSTAMP:20260425T193158
CREATED:20221020T090815Z
LAST-MODIFIED:20221026T163309Z
UID:1864-1667847600-1667854800@fn-munich.de
SUMMARY:Saxenhammer - Wie vereint man eine Corporate Finance-Boutique mit state-of-the-art Technologie?
DESCRIPTION:Gemeinsam mit dem Börsenforum Augsburg\, dem Munich Business & Finance Club\, dem Finance Club Bonn-Rhein-Sieg und dem Börsen- und Wertpapierverein Nürnberg lassen wir das Event mit Saxenhammer stattfinden. \nSaxenhammer ist eine der führenden Boutique-Beratungen für Corporate Finance im Mittelstand. \nFelix Engelhardt\, CFA\, Managing Director der Digital Unit\, wird über die Digitialisierung einer M&A Boutique berichten. \n  \nLink zur Anmeldung (du wirst zum Anmeldeformular des Börsenforums Augsburg e.V. weitergeleitet): \nAnmeldeformular – Saxenhammer Event \n 
URL:https://fn-munich.de/event/saxenhammer-wie-vereint-man-eine-corporate-finance-boutique-mit-state-of-the-art-technologie/
ATTACH;FMTTYPE=image/jpeg:https://fn-munich.de/wp-content/uploads/2022/10/BFA_Saxenhammer-Event.jpeg
END:VEVENT
BEGIN:VEVENT
DTSTART;TZID=Europe/Paris:20221117T160000
DTEND;TZID=Europe/Paris:20221117T200000
DTSTAMP:20260425T193158
CREATED:20221102T193338Z
LAST-MODIFIED:20221102T200552Z
UID:1877-1668700800-1668715200@fn-munich.de
SUMMARY:Risk & Treasury - Praxisnahe Case Study zu Risikobewertung mit KPMG
DESCRIPTION:Dich erwarten exklusive Einblicke zum Thema Risk & Treasury im Bankenumfeld. \nWerde selbst zum Consultant und erstelle Deine eigene Scorekarte zur Ermittlung der Ausfallwahrscheinlichkeit. Dabei lernst Du unsere Kolleg:innen persönlich kennen und kannst beim get-together in entspannter Atmosphäre alle Deine Fragen rund um Deine Einstiegsmöglichkeiten stellen. \n  \nWeitere Infos:\nStart um 16h- 20h\nOrt: Ganghoferstraße 29\, 80339 München\nAnmeldung unter https://fn-munich.de/events/\nAnmeldefrist: 15.11.22 \n  \n\n	Notice: JavaScript is required for this content.
URL:https://fn-munich.de/event/risk-treasury-praxisnahe-case-study-zu-risikobewertung-mit-kpmg/
ATTACH;FMTTYPE=image/jpeg:https://fn-munich.de/wp-content/uploads/2022/11/FNM-KPMG_Risk_and_Treasury.jpg
END:VEVENT
BEGIN:VEVENT
DTSTART;TZID=Europe/Paris:20221124T180000
DTEND;TZID=Europe/Paris:20221124T180000
DTSTAMP:20260425T193158
CREATED:20221115T182623Z
LAST-MODIFIED:20221115T210556Z
UID:1913-1669312800-1669312800@fn-munich.de
SUMMARY:Bitcoin\, Blockchains\, NFTs - Revolution und Hype mit Dr. Martin Oberkofler
DESCRIPTION:In einem interaktiven Vortrag bringt euch Dr. Martin Oberkofler die Funktionsweise von Bitcoin und Blockchains sowie von Nicht-fungiblen Token näher. Darüber hinaus werden verbundene Schwierigkeiten beleuchtet und in der Runde diskutiert. \n  \nWann? 24.11.2022 um 18h \nWo? Hochschule München\, Karlstraße 6 \nWas? Fachvortrag Bitcoin\, Blockchains\, NFTs mit anschließendem optionalen Get-together \n  \nDie Anmeldung erfolgt bis zum 23.11. über das Anmeldeformular. Weitere Infos zum Event erhälst Du im Nachgang. \n  \nDr. Martin Oberkofler\, Gründungsmitglied und Legal Lead bei der SYNTRIX GmbH\, wird einige grundlegende Konzepte hinter Kryptowährungen\, Blockchains sowie unterschiedlichen Tokens kritisch beleuchten. \nEin Fokus liegt dabei auf dem kausalen Zusammenhang zwischen dem Marktpreis einer Proof-of-Work-Kryptowährung wie Bitcoin und dem Ressourcenverbrauch der zugehörigen Blockchain. Ein Bewusstsein für diesen Zusammenhang ist  neben einem Verständnis der eigentlichen Zielsetzung einer Kryptowährung essenziell für eine Beurteilung des möglichen Mehrwerts oder Schadens einer Investition in diese Art von digitalen Vermögenswerten. \nDer zweite Teil des Vortrags befasst sich mit der Definition von analogen und digitalen Token\, mit dem Begriff der Fungibilität (Austauschbarkeit) von Vermögenswerten und mit rezenten regulatorischen Entwicklungen und Herausforderungen im Bereich von nicht-fungiblen Token (NFTs). \n  \n\n	Notice: JavaScript is required for this content.
URL:https://fn-munich.de/event/bitcoin-blockchains-nfts-revolution-und-hype-mit-dr-martin-oberkofler/
ATTACH;FMTTYPE=image/png:https://fn-munich.de/wp-content/uploads/2022/11/FNM_meets_Martin_Oberkofler.png
END:VEVENT
END:VCALENDAR