BEGIN:VCALENDAR
VERSION:2.0
PRODID:-//Finance Network Munich e.V. - ECPv6.3.4//NONSGML v1.0//EN
CALSCALE:GREGORIAN
METHOD:PUBLISH
X-ORIGINAL-URL:https://fn-munich.de
X-WR-CALDESC:Veranstaltungen für Finance Network Munich e.V.
REFRESH-INTERVAL;VALUE=DURATION:PT1H
X-Robots-Tag:noindex
X-PUBLISHED-TTL:PT1H
BEGIN:VTIMEZONE
TZID:UTC
BEGIN:STANDARD
TZOFFSETFROM:+0000
TZOFFSETTO:+0000
TZNAME:UTC
DTSTART:20220101T000000
END:STANDARD
END:VTIMEZONE
BEGIN:VEVENT
DTSTART;TZID=UTC:20220406T193000
DTEND;TZID=UTC:20220406T210000
DTSTAMP:20260426T052738
CREATED:20220326T163437Z
LAST-MODIFIED:20220327T123822Z
UID:1440-1649273400-1649278800@fn-munich.de
SUMMARY:Welcome-Event Finance Network Munich e.V.
DESCRIPTION:Wir laden unsere neuen Mitglieder bzw. FNM-Interessierten herzlich zu unserem Welcome-Event ein.\nIn lockerer Atmosphäre werden wir u.a. unsere Vereinsstrukturen\, unser Angebot sowie unsere Arbeitsweise vorstellen. \nWann? 06.04.2022 um 19.30h bzw. um 20h via Zoom\nWo? Hochschule München\, Karlstraße 6 bzw. online\nWas? Vorstellung des FNM sowie Networking der neuen Mitglieder \nBitte meld‘ Dich bis zum 04.04. über das Anmeldeformular an. \nWeitere Infos zum Event erhältst Du im Nachgang. Wir freuen uns auf einen schönen Abend!\nDein FNM-Team \nZur Anmeldung
URL:https://fn-munich.de/event/welcome-event-finance-network-munich-e-v/
ATTACH;FMTTYPE=image/png:https://fn-munich.de/wp-content/uploads/2022/03/FNM-Welcome-Event.png
END:VEVENT
BEGIN:VEVENT
DTSTART;TZID=UTC:20220412T180000
DTEND;TZID=UTC:20220412T193000
DTSTAMP:20260426T052738
CREATED:20220314T082325Z
LAST-MODIFIED:20220324T163538Z
UID:799-1649786400-1649791800@fn-munich.de
SUMMARY:LBO als Bewertungsansatz im M&A
DESCRIPTION:Interaktiver Online Workshop\nLerne jetzt etwas über die Erarbeitung eines LBO Modells kennen! \nIm Falle eines LBOs (Leveraged Buyout) übernimmt ein Finanzinvestor ein Zielunternehmen mit einer Exit-Strategie in überlicherweise 3-8 Jahren. Der Kaufpreis wird mit einem hohen Fremdkapitalanteil finanziert\, welcher über die Haltedauer hinweg durch den Cashflow des Zielunternehmens getilgt wird. \nDiskussionspunkte werden hierbei sein: \n\nWann findet ein LBO Anwendung?\nInwieweit unterscheidet sich ein LBO von anderen Bewertungsansätzen?\nWorauf ist bei der Erstellung eines LBO besonders zu achten?\nWelche Schwachstellen hat ein LBO ?\n\nMelde dich jetzt an! Anmeldefrist bis 10.04.2022 \nLBO Event Flyer herunterladen \nZur Anmeldung
URL:https://fn-munich.de/event/lbo-als-bewertungsansatz-in-ma/
ATTACH;FMTTYPE=image/png:https://fn-munich.de/wp-content/uploads/2022/03/hypovereinsbank-vector-logo.png
END:VEVENT
END:VCALENDAR