BEGIN:VCALENDAR
VERSION:2.0
PRODID:-//Finance Network Munich e.V. - ECPv6.3.4//NONSGML v1.0//EN
CALSCALE:GREGORIAN
METHOD:PUBLISH
X-ORIGINAL-URL:https://fn-munich.de
X-WR-CALDESC:Veranstaltungen für Finance Network Munich e.V.
REFRESH-INTERVAL;VALUE=DURATION:PT1H
X-Robots-Tag:noindex
X-PUBLISHED-TTL:PT1H
BEGIN:VTIMEZONE
TZID:UTC
BEGIN:STANDARD
TZOFFSETFROM:+0000
TZOFFSETTO:+0000
TZNAME:UTC
DTSTART:20230101T000000
END:STANDARD
END:VTIMEZONE
BEGIN:VEVENT
DTSTART;TZID=UTC:20230426T163000
DTEND;TZID=UTC:20230426T183000
DTSTAMP:20260425T134739
CREATED:20230404T192045Z
LAST-MODIFIED:20230406T102146Z
UID:2059-1682526600-1682533800@fn-munich.de
SUMMARY:Hochschule München meets BayernLB
DESCRIPTION:Erfahre\, wie die BayernLB den ökologischen Wandel – gemeinsam mit ihren mittelständischen bis globalen Kunden – mittels ESG-Produkten gestaltet. Durch interaktive Vorträge durch Experten vom ESG-Advisory und Debt Capital Marktes (DCM) der BayernLB kannst du in die Welt von Sustainable Finance eintauchen. Dabei wird die Bedeutung von Nachhaltigkeitsaspekten für Unternehmen und den Bankenmarkt aufgezeigt. Zudem erhältst du wertvolle Einblicke über nachhaltige Finanzierungsinstrumente am Kredit- und Kapitalmarktgeschäft. Bei einem abschließenden get-together in entspannter Atmosphäre kannst du die Kolleg:innen der BayernLB kennenlernen und deine Fragen rund um deine Einstiegsmöglichkeiten stellen. \n\n	Notice: JavaScript is required for this content.
URL:https://fn-munich.de/event/financing-progress-transformation-durch-esg-produkte/
LOCATION:Offices der Bayern LB\, Türkenstraße 4\, München\, Bayern\, 80333\, Deutschland
ATTACH;FMTTYPE=image/png:https://fn-munich.de/wp-content/uploads/2023/04/FNM_Flyer-BayernLB.png
END:VEVENT
END:VCALENDAR