BEGIN:VCALENDAR
VERSION:2.0
PRODID:-//Finance Network Munich e.V. - ECPv6.3.4//NONSGML v1.0//EN
CALSCALE:GREGORIAN
METHOD:PUBLISH
X-WR-CALNAME:Finance Network Munich e.V.
X-ORIGINAL-URL:https://fn-munich.de
X-WR-CALDESC:Veranstaltungen für Finance Network Munich e.V.
REFRESH-INTERVAL;VALUE=DURATION:PT1H
X-Robots-Tag:noindex
X-PUBLISHED-TTL:PT1H
BEGIN:VTIMEZONE
TZID:UTC
BEGIN:STANDARD
TZOFFSETFROM:+0000
TZOFFSETTO:+0000
TZNAME:UTC
DTSTART:20230101T000000
END:STANDARD
END:VTIMEZONE
BEGIN:VEVENT
DTSTART;TZID=UTC:20230404T190000
DTEND;TZID=UTC:20230404T210000
DTSTAMP:20260421T212338
CREATED:20230320T153512Z
LAST-MODIFIED:20230320T153512Z
UID:2039-1680634800-1680642000@fn-munich.de
SUMMARY:Welcome Event Finance Network Munich e.V. SoSe 2023
DESCRIPTION:Wir laden unsere neuen Mitglieder bzw. FNM-Interessierten herzlich zu unserem Welcome-Event ein.\nIn lockerer Atmosphäre werden wir u.a. unsere Vereinsstrukturen\, unser Angebot sowie unsere Arbeitsweise vorstellen.\nWann? 04.04.2023 um 19.00h bzw. um 19.30h via Zoom\nWo? Hochschule München\, Karlstraße 6 bzw. online\nWas? Vorstellung des FNM sowie Networking der neuen Mitglieder\nBitte meld‘ Dich bis zum 01.04. über das Anmeldeformular an. Weitere Infos zum Event erhältst Du im Nachgang.\nWir freuen uns auf einen schönen Abend!\nDein FNM-Team\n\n\n	Notice: JavaScript is required for this content.
URL:https://fn-munich.de/event/welcome-event-finance-network-munich-e-v-sose-2023/
LOCATION:Hochschule München\, Karlstraße 6\, München
ATTACH;FMTTYPE=image/png:https://fn-munich.de/wp-content/uploads/2023/03/1-1.png
END:VEVENT
END:VCALENDAR